BEGIN:VCALENDAR
VERSION:2.0
METHOD:PUBLISH
PRODID:-//ActiveDataExchange/NEXTGEN V1//EN
BEGIN:VEVENT
ORGANIZER:mailto:ALUSTER@augusta.edu
DTSTART:20260428T150000Z
DTEND:20260428T170000Z
DTSTAMP:20260425T140052Z
LOCATION:Breezeway
SUMMARY:Build Your Own Finals Frenzy Pack
DESCRIPTION:Students can fill a bag with FREE study supplies and visit t
 ables staffed by campus partners and local nonprofits. Visi
 t with local therapy dogs and the local Mom Hugs chapter.\nView the full event details here: https://calendar.augusta.edu/event/build-your-own-finals-frenzy-pack-4/
CATEGORIES:Students
CONTACT:Aspasia,ALUSTER@augusta.edu,706-667-4899
CLASS:PUBLIC
UID:D5F22965-9FE2-475D-93EA-4EF631A54DDD
BEGIN:VALARM
TRIGGER:-PT15M
ACTION:DISPLAY
DESCRIPTION:Build Your Own Finals Frenzy Pack
END:VALARM
END:VEVENT
END:VCALENDAR
