BEGIN:VCALENDAR
VERSION:2.0
METHOD:PUBLISH
PRODID:-//ActiveDataExchange/NEXTGEN V1//EN
BEGIN:VEVENT
ORGANIZER:mailto:cwe@augusta.edu
DTSTART:20260429T140000Z
DTEND:20260429T180000Z
DTSTAMP:20260425T114820Z
LOCATION:Breezeway
SUMMARY:CWE Pop-Up Consultations
DESCRIPTION:Don’t have time for an appointment? Get quick help at one of
  our new pop-up writing consultations! We will provide coff
 ee and snacks!\nView the full event details here: https://calendar.augusta.edu/event/cwe-pop-up-consultations-5/
CATEGORIES:Students
CONTACT:Makayla Mathews,cwe@augusta.edu,(706) 737-1402
CLASS:PUBLIC
UID:0F567610-4803-4ED2-ADA4-2CBAEDF2D7FD
BEGIN:VALARM
TRIGGER:-PT15M
ACTION:DISPLAY
DESCRIPTION:CWE Pop-Up Consultations
END:VALARM
END:VEVENT
END:VCALENDAR
