BEGIN:VCALENDAR
VERSION:2.0
METHOD:PUBLISH
PRODID:-//ActiveDataExchange/NEXTGEN V1//EN
BEGIN:VEVENT
ORGANIZER:mailto:edent@augusta.edu
DTSTART:20260514T200000Z
DTEND:20260514T220000Z
DTSTAMP:20260424T054638Z
LOCATION:Lansing B. Lee Sr. Auditoria Center 1120 15th Street Augusta GA 30912
SUMMARY:Postdoctoral Fellows Recognition Ceremony
DESCRIPTION:This event celebrates the achievements, dedication, and impa
 ct of Augusta University’s postdoctoral scholars. Join us a
 s we honor their research accomplishments, professional gro
 wth, and invaluable contributions to our academic community
 .\nView the full event details here: https://calendar.augusta.edu/event/postdoctoral-fellows-recognition-ceremony/
CATEGORIES:
CONTACT:Elena Dent,edent@augusta.edu
CLASS:PUBLIC
UID:D010E5A5-46CF-439A-B13D-0A10A912BF6E
BEGIN:VALARM
TRIGGER:-PT15M
ACTION:DISPLAY
DESCRIPTION:Postdoctoral Fellows Recognition Ceremony
END:VALARM
END:VEVENT
END:VCALENDAR
