BEGIN:VCALENDAR
VERSION:2.0
METHOD:PUBLISH
PRODID:-//ActiveDataExchange/NEXTGEN V1//EN
BEGIN:VEVENT
ORGANIZER:mailto:amaskey@augusta.edu
DTSTART:20260502T120000Z
DTEND:20260502T150000Z
DTSTAMP:20260424T001908Z
LOCATION:Cancer Research Center 1120 15th Street Augusta GA 30912
SUMMARY:Unite in the Fight Against Cancer
DESCRIPTION:This event is an opportunity for the community to support ev
 eryone who has struggled with any type of cancer. It includ
 es a one-mile walk, kids zone, music, food, special appeara
 nces and VIP area to pamper our patients and survivors.\nView the full event details here: https://calendar.augusta.edu/event/unite-in-the-fight-against-cancer-12/
CATEGORIES:Major University Events
CONTACT:Angela Maskey,amaskey@augusta.edu,(706)-664-8011
CLASS:PUBLIC
UID:A3208D9D-1695-40BB-9013-6B05B56B60C4
BEGIN:VALARM
TRIGGER:-PT15M
ACTION:DISPLAY
DESCRIPTION:Unite in the Fight Against Cancer
END:VALARM
END:VEVENT
END:VCALENDAR
